BEGIN:VCALENDAR
VERSION:2.0
PRODID:-//PYVOBJECT//NONSGML Version 1//EN
BEGIN:VEVENT
UID:18801:2121
DTSTART:20140412T200000
DTEND:20140413T000000
DESCRIPTION:am SA. 12. 04. 14\nBeginn 20:00\nVVK: 15\,- AK: 17\,-\nKarten i
 m Gh. Derfler erh&auml\;ltlich!
DTSTAMP:20260425T210030Z
SUMMARY:Kammerhofer auf der Pirsch
END:VEVENT
END:VCALENDAR
