BEGIN:VCALENDAR
VERSION:2.0
PRODID:-//PYVOBJECT//NONSGML Version 1//EN
BEGIN:VEVENT
UID:18801:2120
DTSTART:20140315T210000
DTEND:20140316T000000
DESCRIPTION:&gt\;&gt\; DJ ED\nEintritt 4\,-\nfür Derfler BonusCard besitze
 r nur 2\,-
DTSTAMP:20260425T110552Z
SUMMARY:Fun Night
END:VEVENT
END:VCALENDAR
