BEGIN:VCALENDAR
VERSION:2.0
PRODID:-//PYVOBJECT//NONSGML Version 1//EN
BEGIN:VEVENT
UID:18801:1696
DTSTART:20130928T170000
DTEND:20130929T000400
DESCRIPTION:am SA. 28. September\nOktoberfeststimmung mit Liveband TAMP\nBe
 ginn 17:00 bis 18:00 Freibier!\nEintritt Frei!
DTSTAMP:20260425T172824Z
SUMMARY:Oktober Fest
END:VEVENT
END:VCALENDAR
