BEGIN:VCALENDAR
VERSION:2.0
PRODID:-//PYVOBJECT//NONSGML Version 1//EN
BEGIN:VEVENT
UID:18801:1564
DTSTART:20130606T000000
DTEND:20130830T000000
DESCRIPTION:Jeden DO &amp\; FR mit Reihhaltigen Salatbuffet unbegrenzter En
 tnahme!
DTSTAMP:20260425T114509Z
SUMMARY:Grillabende
END:VEVENT
END:VCALENDAR
