BEGIN:VCALENDAR
VERSION:2.0
PRODID:-//PYVOBJECT//NONSGML Version 1//EN
BEGIN:VEVENT
UID:18801:1273
DTSTART:20130413T000000
DTEND:20130414T000000
DESCRIPTION:&gt\;&gt\; DJ ED\n&gt\;&gt\; Animations Show\nEintritt 4\,-\nf
 ür Derfler BonusCard besitzer nur 2\,-\nTaxi bis 10 km nur 3\,- pro Perso
 n!\n\n	&gt\;&gt\;info facebook\n
DTSTAMP:20260425T110552Z
SUMMARY:Fun Night
END:VEVENT
END:VCALENDAR
