BEGIN:VCALENDAR
VERSION:2.0
PRODID:-//PYVOBJECT//NONSGML Version 1//EN
BEGIN:VEVENT
UID:18801:1272
DTSTART:20130316T210000
DTEND:20130317T040000
DESCRIPTION:Musik: Rock - Pop - Charts - Coverband Stand Up\nwerden für ei
 ne tolle Stimmung sorgen!\nDerfler BonusCard nur 6\,-\nAK 8\,-\nTaxi bis 1
 0 km nur 3\,- pro Person\n\n	&gt\;&gt\;info facebook\n
DTSTAMP:20260425T220723Z
SUMMARY:High Life
END:VEVENT
END:VCALENDAR
