BEGIN:VCALENDAR
VERSION:2.0
PRODID:-//PYVOBJECT//NONSGML Version 1//EN
BEGIN:VEVENT
UID:18801:1112
DTSTART:20121226T210000
DTEND:20121227T040000
DESCRIPTION:~~HIGHLIGHT EVERY YEAR~~\n\nDie besinnliche Zeit neigt sich sei
 nem Ende.. doch die Party des Jahres steht uns noch bevor!!\n\nNachdem das
  Christkind uns viele tolle Geschenke gebracht hat wollen wird das auch ge
 b&uuml\;hrend und ausgelassen feiern.\n...\nWas w&auml\;re da besser als d
 er hippe STEFANI TANZ in Sulzbach.\nAm Dancefloor erwartet euch die Band &
 quot\;XDREAM&quot\; die bereits von &Ouml\;3 ausgezeichnet wurde. Auch int
 ernational ist die Band sehr bekannt.\n\nNeu: Spezielle Getr&auml\;nke sol
 len werden eure Stimmung in der Partynacht noch h&ouml\;her schlagen lasse
 n.\n\nBis 21:00 Uhr: 6&euro\;\nAbendkassa: 8&euro\;\n\n\nLasst euch das ja
  nicht entgehen!\n\nDas wird die Party des JAHRES 2012!
DTSTAMP:20260425T172823Z
SUMMARY:Stefani Tanz
END:VEVENT
END:VCALENDAR
